Workbook

Sheet Instructions
A1: Step | B1: Sheet | C1: Field | D1: Action | E1: Special Instructions
A2: 1 | B2: Generation | C2: STR, DEX, CON, INT, WIS, CHA | D2: Roll or use value from standard sets | E2: Various combinations are presented
A3: 2 | B3: Generation | C3: Race | D3: Choose from drop down | E3: If Half-elf, add +1 to two abilities in the Half Elf Bonus cells
A4: 3 | B4: Character Sheet | C4: Name | D4: Enter a name
A5: 4 | B5: Character Sheet | C5: Class | D5: Choose from drop down
A6: 5 | B6: Character Sheet | C6: Background | D6: Choose from drop down
A7: 6 | B7: Character Sheet | C7: Alignment | D7: Choose from drop down
A8: 7 | B8: Character Sheet | C8: Armor | D8: Choose from drop down
A9: 8 | B9: Character Sheet | C9: Shield | D9: Choose from drop down
A10: 9 | B10: Character Sheet | C10: MELEE WEAPONS | D10: Choose from drop down | E10: For each melee weapon- use first five rows
A11: 10 | B11: Character Sheet | C11: FINESSE AND RANGED | D11: Choose from drop down | E11: For each DEX weapon - use last four rows
A12: 11 | B12: Character Sheet | C12: Saving Throws | D12: Enter "1" if proficient
A13: 12 | B13: Character Sheet | C13: Skills | D13: Enter "1" if proficient, "2" if Expertise | E13: ".5" for all others if Jack-of-all-Trades, otherwise, leave blank / "0"
A14: 13 | B14: Character Sheet | C14: Initiative | D14: IF Jack-of-all-Trades, change formula to | E14: =ROUNDDOWN(A12+(AQ24*0.5),0)
A15: 14 | B15: Character Sheet | C15: Features & Traits | D15: Choose your Feats as earned | E15: Fill in other slots with anythign else you wish to track
A16: 15 | B16: Character Sheet | C16: All other fields | D16: Enter as needed
A17: 16 | B17: Spellcasting Sheet | C17: Fill in slots per level
A18: 17 | B18: Spellcasting Sheet | C18: Fill in vital statistics | D18: Age, Height, Weight
A19: 18 | B19: Spellcasting Sheet | C19: Enter spell lists
A20: 19 | B20: Character Sheet | C20: For each level after first | D20: Enter new HP in column AL | E20: First is prefilled with max HP for class's HD type
A21: 20 | B21: Generation | C21: If using ASI | D21: Update ASI row in Ability Scores table
B23: Skills: see Look-Ups | C23: for skills given by Background

Sheet Generation
C2: Ability Scores | D2: STR | E2: DEX | F2: CON | G2: INT | H2: WIS | I2: CHA | L2: Fill in the Light Blue Cells | M2: Results are Yellow
B3: Roll | C3: Or Quick Build | D3: 10 | E3: 10 | F3: 10 | G3: 10 | H3: 10 | I3: 10 | L3: Note: for Half-Elf: + 1 in row | M3: 5 to any 2 abilities
B4: Race: | C4: Choose | D4: =VLOOKUP($C4,'Look-ups'!$F2:$L14,2) -> 0 | E4: =VLOOKUP($C4,'Look-ups'!$F:$L,3) -> 0 | F4: =VLOOKUP($C4,'Look-ups'!$F:$L,4) -> 0 | G4: =VLOOKUP($C4,'Look-ups'!$F:$L,5) -> 0 | H4: =VLOOKUP($C4,'Look-ups'!$F:$L,6) -> 0 | I4: =VLOOKUP($C4,'Look-ups'!$F:$L,7) -> 0
C5: Half Elf Bonus | D5: 0 | E5: 0 | F5: 0 | G5: 0 | H5: 0 | I5: 0
B6: ASI | D6: 0 | E6: 0 | F6: 0 | G6: 0 | H6: 0 | I6: 0
B7: Total | D7: =SUM(D3:D6) -> 10 | E7: =SUM(E3:E6) -> 10 | F7: =SUM(F3:F6) -> 10 | G7: =SUM(G3:G6) -> 10 | H7: =SUM(H3:H6) -> 10 | I7: =SUM(I3:I6) -> 10
B8: Bonus | D8: =ROUNDDOWN((D7/2),0)-5 -> 0 | E8: =ROUNDDOWN((E7/2),0)-5 -> 0 | F8: =ROUNDDOWN((F7/2),0)-5 -> 0 | G8: =ROUNDDOWN((G7/2),0)-5 -> 0 | H8: =ROUNDDOWN((H7/2),0)-5 -> 0 | I8: =ROUNDDOWN((I7/2),0)-5 -> 0
C11: Ability Score | D11: Ability | F11: Ability Score | G11: Ability | I11: Ability Score | J11: Ability | L11: Ability Score | M11: Ability
C12: Quick Build | D12: Bonus | F12: Alt 1 | G12: Bonus | I12: Alt 2 | J12: Bonus | L12: Alt 3 | M12: Bonus
C13: 15 | D13: 2 | F13: 15 | G13: 2 | I13: 18 | J13: 4 | L13: 16 | M13: 3
C14: 14 | D14: 2 | F14: 13 | G14: 1 | I14: 13 | J14: 1 | L14: 14 | M14: 2
C15: 13 | D15: 1 | F15: 13 | G15: 1 | I15: 12 | J15: 1 | L15: 13 | M15: 1
C16: 12 | D16: 1 | F16: 12 | G16: 1 | I16: 11 | J16: 0 | L16: 11 | M16: 0
C17: 10 | D17: 0 | F17: 11 | G17: 0 | I17: 10 | J17: 0 | L17: 10 | M17: 0
C18: 8 | D18: -1 | F18: 10 | G18: 0 | I18: 8 | J18: -1 | L18: 8 | M18: -1
C19: Total Bonsues | D19: =SUM(D13:D18) -> 5 | G19: =SUM(G13:G18) -> 5 | J19: =SUM(J13:J18) -> 5 | M19: =SUM(M13:M18) -> 5
C21: Standard - PHB | F21: No bonus | G21: < 0 | I21: One 18 | L21: Balanced
C23: All bonuses: | D23: Total | E23: +5

Sheet Character Sheet
A1: CHARACTER NAME: | O1: LEVEL: | Q1: 1 | U1: BACKGRND: | X1: Choose Background | AB1: EXPERIENCE POINTS: | AF1: =0 -> 0 | AK1: HP | AL1: Per Lvl | AO1: 1 | AP1: 2 | AQ1: 300
A2: Choose a Name | O2: CLASS: | Q2: Choose Class | U2: ALIGNMENT: | X2: N | AB2: NEXT LEVEL: | AF2: =AP25 -> 300 | AK2: 1 | AL2: =VLOOKUP(Q2,'Look-ups'!Q2:T14,4,FALSE) -> 1 | AO2: 2 | AP2: 2 | AQ2: 900
O3: RACE: | Q3: =Generation!C4 -> Choose | U3: Armor | X3: None | AB3: Shield? | AF3: No | AK3: 2 | AO3: 3 | AP3: 2 | AQ3: 2700
AK4: 3 | AO4: 4 | AP4: 2 | AQ4: 6500
A5: STRENGTH | E5: =AP23 -> 2 | G5: PROFICIENCY BONUS | L5: ARMOR CLASS | P5: INITIATIVE | T5: SPEED | X5: ROLEPLAYING | AK5: 4 | AO5: 5 | AP5: 3 | AQ5: 14000
A6: =ROUNDDOWN((B9/2),0)-5 -> 0 | L6: =(A12*AP28)+AP30+(VLOOKUP(AF3,'Look-ups'!A20:C21,2,FALSE)) -> 10 | P6: =A12 -> 0 | T6: 30 | U6: Feet | X6: PERSONALITY | AK6: 5 | AO6: 6 | AP6: 3 | AQ6: 23000
T7: =T6/5 -> 6 | U7: Squares | X7: # Something good | AK7: 6 | AO7: 7 | AP7: 3 | AQ7: 34000
E8: SAVING THROWS | X8: # Something bad | AK8: 7 | AO8: 8 | AP8: 3 | AQ8: 48000
B9: =Generation!D7 -> 10 | E9: 1 | F9: =A6+E9*$E$5 -> 2 | G9: Strength | M9: HIT POINTS | X9: You can look at your highest and lowest ability score for | AK9: 8 | AO9: 9 | AP9: 4 | AQ9: 64000
F10: =A12+E10*$E$5 -> 0 | G10: Dexterity | M10: Max: | T10: =AL22 -> 1 | X10: inspiration. | AK10: 9 | AO10: 10 | AP10: 4 | AQ10: 85000
A11: DEXTERITY | E11: 1 | F11: =A18+E11*$E$5 -> 2 | G11: Constitution | M11: Current: | T11: 1 | X11: p.35 Basic Rules have more info on this. | AK11: 10 | AO11: 11 | AP11: 4 | AQ11: 100000
A12: =ROUNDDOWN((B15/2),0)-5 -> 0 | F12: =A24+E12*$E$5 -> 0 | G12: Intelligence | AK12: 11 | AO12: 12 | AP12: 4 | AQ12: 120000
F13: =A30+E13*$E$5 -> 0 | G13: Wisdom | M13: Temporary Hit Points: | T13: 0 | X13: IDEALS: {ideal} | AK13: 12 | AO13: 13 | AP13: 5 | AQ13: 140000
F14: =A36+E14*$E$5 -> 0 | G14: Charisma | X14: # What are the principles that you will never betray? | AK14: 13 | AO14: 14 | AP14: 5 | AQ14: 165000
B15: =Generation!E7 -> 10 | M15: HIT DICE | X15: What would prompt you to make sacrifices? | AK15: 14 | AO15: 15 | AP15: 5 | AQ15: 195000
E16: SKILLS | M16: Type: | T16: =VLOOKUP(Q2,'Look-ups'!Q2:S14,3,FALSE) -> - | X16: What is the single most important thing you strive for? | AK16: 15 | AO16: 16 | AP16: 5 | AQ16: 225000
A17: CONSTITUTION | E17: 0.5 | F17: =A12+ROUNDDOWN((E17*$E$5),0) -> 1 | G17: Acrobatics (Dex) | M17: Max: | T17: =Q1 -> 1 | X17: BONDS | AK17: 16 | AO17: 17 | AP17: 6 | AQ17: 265000
A18: =ROUNDDOWN((B21/2),0)-5 -> 0 | E18: 1 | F18: =A30+ROUNDDOWN((E18*$E$5),0) -> 2 | G18: Animal Handling(Wis) | M18: Current: | T18: 1 | X18: # Whom do you care most about? To what place do you feel | AK18: 17 | AO18: 18 | AP18: 6 | AQ18: 305000
E19: 1 | F19: =A24+ROUNDDOWN((E19*$E$5),0) -> 2 | G19: Arcana (Int) | X19: a special connection? What is your most treasured | AK19: 18 | AO19: 19 | AP19: 6 | AQ19: 355000
E20: 1 | F20: =A6+ROUNDDOWN((E20*$E$5),0) -> 2 | G20: Athletics (Str) | M20: Gained per day (Minimum 1): | T20: =ROUNDDOWN((T17/2),0) -> 0 | X20: possession? | AK20: 19 | AO20: 20 | AP20: 6
B21: =Generation!F7 -> 10 | F21: =A36+ROUNDDOWN((E21*$E$5),0) -> 0 | G21: Deception (Cha) | X21: FLAWS | AK21: 20
F22: =A24+ROUNDDOWN((E22*$E$5),0) -> 0 | G22: History (Int) | M22: DEATH SAVES | X22: # What enrages you? What are you terrified of? | AL22: =SUM(AL2:AL21)+(Q1*A18) -> 1 | AO22: Current prof, bonus:
A23: INTELLIGENCE | F23: =A30+ROUNDDOWN((E23*$E$5),0) -> 0 | G23: Insight (Wis) | M23: SUCCESSES: | X23: What are your vices? | AP23: =LOOKUP(VALUE(Q1),AO1:AO20,AP1:AP20) -> 2
A24: =ROUNDDOWN((B27/2),0)-5 -> 0 | F24: =A36+ROUNDDOWN((E24*$E$5),0) -> 0 | G24: Intimidation (Cha) | M24: FAILURES: | AO24: XP for next level:
F25: =A24+ROUNDDOWN((E25*$E$5),0) -> 0 | G25: Investigation (Int) | AP25: =LOOKUP(VALUE(Q1),AO1:AO20,AQ1:AQ20) -> 300
F26: =A30+ROUNDDOWN((E26*$E$5),0) -> 0 | G26: Medicine (Wis) | L26: MELEE WEAPONS | X26: FEATURES & TRAITS
B27: =Generation!G7 -> 10 | F27: =A24+ROUNDDOWN((E27*$E$5),0) -> 0 | G27: Nature (Int) | L27: NAME | P27: + | Q27: DAMAGE | T27: TYPE | X27: Choose Feat
F28: =A30+ROUNDDOWN((E28*$E$5),0) -> 0 | G28: Perception (Wis) | L28: Choose Weapon | P28: =$E$5+$A$6 -> 2 | Q28: =VLOOKUP($L28,'Look-ups'!$W$2:$X$37,2,FALSE) -> 1dx | S28: =$A$6 -> 0 | T28: =VLOOKUP($L28,'Look-ups'!$W$2:$Y$37,3,FALSE) -> S/B/P | X28: Choose Feat | AN28: Dex for | AO28: AC | AP28: =VLOOKUP($X$3,'Look-ups'!$B$2:$D$14,3,FALSE) -> 1
A29: WISDOM | F29: =A36+ROUND((E29*$E$5),0) -> 0 | G29: Performance (Cha) | L29: Choose Weapon | P29: =$E$5+$A$6 -> 2 | Q29: =VLOOKUP($L29,'Look-ups'!$W$2:$X$37,2,FALSE) -> 1dx | S29: =$A$6 -> 0 | T29: =VLOOKUP($L29,'Look-ups'!$W$2:$Y$37,3,FALSE) -> S/B/P | X29: Choose Feat
A30: =ROUNDDOWN((B33/2),0)-5 -> 0 | F30: =A36+ROUNDDOWN((E30*$E$5),0) -> 0 | G30: Persuasion (Cha) | L30: Choose Weapon | P30: =$E$5+$A$6 -> 2 | Q30: =VLOOKUP($L30,'Look-ups'!$W$2:$X$37,2,FALSE) -> 1dx | S30: =$A$6 -> 0 | T30: =VLOOKUP($L30,'Look-ups'!$W$2:$Y$37,3,FALSE) -> S/B/P | X30: Choose Feat | AN30: Armor | AO30: AC | AP30: =VLOOKUP($X$3,'Look-ups'!$B$2:$C$14,2,FALSE) -> 10
F31: =A24+ROUNDDOWN((E31*$E$5),0) -> 0 | G31: Religion (Int) | L31: Choose Weapon | P31: =$E$5+$A$6 -> 2 | Q31: =VLOOKUP($L31,'Look-ups'!$W$2:$X$37,2,FALSE) -> 1dx | S31: =$A$6 -> 0 | T31: =VLOOKUP($L31,'Look-ups'!$W$2:$Y$37,3,FALSE) -> S/B/P | X31: Choose Feat
F32: =A12+ROUNDDOWN((E32*$E$5),0) -> 0 | G32: Sleight of Hand (Dex) | L32: Choose Weapon | P32: =$E$5+$A$6 -> 2 | Q32: =VLOOKUP($L32,'Look-ups'!$W$2:$X$37,2,FALSE) -> 1dx | S32: =$A$6 -> 0 | T32: =VLOOKUP($L32,'Look-ups'!$W$2:$Y$37,3,FALSE) -> S/B/P
B33: =Generation!H7 -> 10 | F33: =A12+ROUNDDOWN((E33*$E$5),0) -> 0 | G33: Stealth (Dex) | L33: FINNESE AND RANGED
F34: =A30+ROUNDDOWN((E34*$E$5),0) -> 0 | G34: Survival (Wis) | L34: Choose Weapon | P34: =$E$5+$A$12 -> 2 | Q34: =VLOOKUP($L34,'Look-ups'!$W$2:$X$37,2,FALSE) -> 1dx | S34: =$A$12 -> 0 | T34: =VLOOKUP($L34,'Look-ups'!$W$2:$Y$37,3,FALSE) -> S/B/P
A35: CHARISMA | L35: Choose Weapon | P35: =$E$5+$A$12 -> 2 | Q35: =VLOOKUP($L35,'Look-ups'!$W$2:$X$37,2,FALSE) -> 1dx | S35: =$A$12 -> 0 | T35: =VLOOKUP($L35,'Look-ups'!$W$2:$Y$37,3,FALSE) -> S/B/P
A36: =ROUNDDOWN((B39/2),0)-5 -> 0 | E36: =10+F28 -> 10 | G36: PASSIVE PERCEPTION | L36: Choose Weapon | P36: =$E$5+$A$12 -> 2 | Q36: =VLOOKUP($L36,'Look-ups'!$W$2:$X$37,2,FALSE) -> 1dx | S36: =$A$12 -> 0 | T36: =VLOOKUP($L36,'Look-ups'!$W$2:$Y$37,3,FALSE) -> S/B/P
L37: Choose Weapon | P37: =$E$5+$A$12 -> 2 | Q37: =VLOOKUP($L37,'Look-ups'!$W$2:$X$37,2,FALSE) -> 1dx | S37: =$A$12 -> 0 | T37: =VLOOKUP($L37,'Look-ups'!$W$2:$Y$37,3,FALSE) -> S/B/P
E38: =10+F23 -> 10 | G38: PASSIVE INSIGHT | L38: Choose Weapon | P38: =$E$5+$A$12 -> 2 | Q38: =VLOOKUP($L38,'Look-ups'!$W$2:$X$37,2,FALSE) -> 1dx | S38: =$A$12 -> 0 | T38: =VLOOKUP($L38,'Look-ups'!$W$2:$Y$37,3,FALSE) -> S/B/P
B39: =Generation!I7 -> 10
L40: GOLD: | N40: =0 -> 0 | T40: =B9*15 -> 150 | V40: lb max
A41: PROFICIENCIES & LANGUAGES | L41: nr | O41: INVENTORY: | T41: =W41 -> 0 | V41: lb | W41: =SUM(W42:W77) -> 0
A42: =VLOOKUP(Q3,'Look-ups'!F2:M15,8,FALSE) -> Choose a Race - above | L42: 1 | W42: =V42*L42 -> 0
A43: =VLOOKUP(X1,'Look-ups'!AA2:AE20,3,FALSE) -> - | L43: 1 | W43: =V43*L43 -> 0
A44: =VLOOKUP(X1,'Look-ups'!AA2:AE20,5,FALSE) -> - | L44: 1 | W44: =V44*L44 -> 0
L45: 1 | W45: =V45*L45 -> 0
L46: 1 | W46: =V46*L46 -> 0
L47: 1 | W47: =V47*L47 -> 0
L48: 1 | W48: =V48*L48 -> 0
L49: 1 | W49: =V49*L49 -> 0
L50: 1 | W50: =V50*L50 -> 0
L51: 1 | W51: =V51*L51 -> 0
L52: 1 | W52: =V52*L52 -> 0
L53: 1 | W53: =V53*L53 -> 0
L54: 1 | W54: =V54*L54 -> 0
L55: 1 | W55: =V55*L55 -> 0
L56: 1 | W56: =V56*L56 -> 0
... L59: 1 | W59: =V59*L59 -> 0
A60: Class Proficient Saves: | L60: 1 | W60: =V60*L60 -> 0
A61: =VLOOKUP(Q2,'Look-ups'!Q2:R14,2,FALSE) -> - | L61: 1 | W61: =V61*L61 -> 0
L62: 1 | W62: =V62*L62 -> 0
L63: 1 | W63: =V63*L63 -> 0
L64: 1 | W64: =V64*L64 -> 0
L65: 1 | W65: =V65*L65 -> 0
L66: 1 | W66: =V66*L66 -> 0
L67: 1 | W67: =V67*L67 -> 0
L68: 1 | W68: =V68*L68 -> 0
L69: 1 | W69: =V69*L69 -> 0
L70: 1 | W70: =V70*L70 -> 0
L71: 1 | W71: =V71*L71 -> 0
L72: 1 | W72: =V72*L72 -> 0
L73: 1 | W73: =V73*L73 -> 0
... L77: 1 | W77: =V77*L77 -> 0

Sheet Look-ups
A1: Armor Type | B1: Armor Name | C1: AC | D1: DEX | F1: Race | G1: STR | H1: DEX | I1: CON | J1: INT | K1: WIS | L1: CHA | M1: Languages | O1: Alignment | Q1: Class | R1: Class Saves | S1: HD Type | T1: Lvl 1 HP | U1: Casting | W1: Weapon Type | X1: Damage Die | Y1: Dam Type | AA1: Background | AB1: PHB Page | AC1: Skills | AD1: Languages | AE1: Tools
A2: Medium | B2: Breast Plate | C2: 14 | D2: 1 | F2: Choose | M2: Choose a Race - above | O2: CE | Q2: Choose Class | R2: - | S2: - | T2: 1 | U2: - | W2: Choose Weapon | X2: 1dx | Y2: S/B/P | AA2: Choose Background | AB2: 0 | AC2: - | AD2: - | AE2: -
A3: Heavy | B3: Chain Mail | C3: 16 | D3: 0 | F3: Dragonborn | G3: 2 | L3: 1 | M3: Common, Draconic | O3: CG | Q3: Barbarian | R3: STR, CON | S3: d12 | T3: 12 | U3: - | W3: Battleaxe | X3: 1d8 | Y3: Slashing | AA3: Acolyte | AB3: 127 | AC3: Insight (WIS), Religion (INT) | AD3: 2 | AE3: -
A4: Medium | B4: Chain Shirt | C4: 13 | D4: 1 | F4: Dwarf, Hill | I4: 2 | K4: 1 | M4: Common, Dwarf | O4: CN | Q4: Bard | R4: DEX, CHA | S4: d8 | T4: 8 | U4: CHA | W4: Club | X4: 1d8 | Y4: Bludgeoning | AA4: Charlatan | AB4: 128 | AC4: Deception (CHA), Sleight of Hand (DEX) | AD4: - | AE4: Disguise Kit, Forgery Kit
A5: Medium | B5: Half Plate | C5: 15 | D5: 1 | F5: Dwarf, Mtn | G5: 1 | I5: 2 | M5: Common, Dwarf | O5: LE | Q5: Cleric | R5: WIS, CHA | S5: d8 | T5: 8 | U5: WIS | W5: Dagger | X5: 1d6 | Y5: Piercing | AA5: Criminal | AB5: 129 | AC5: Deception (CHA), Stealth (DEX) | AD5: - | AE5: Gaming set x1, Thieves' tools
A6: Medium | B6: Hide | C6: 12 | D6: 1 | F6: Elf, Drow | H6: 2 | J6: 1 | M6: Common, Elvish | O6: LG | Q6: Druid | R6: INT, WIS | S6: d8 | T6: 8 | U6: WIS | W6: Dart | X6: 1d4 | Y6: Piercing | AA6: Entertainer | AB6: 130 | AC6: Acrobatics (DEX), Performance (CHA) | AD6: - | AE6: Disguise kit, Musical instrument x1
A7: Light | B7: Leather | C7: 11 | D7: 1 | F7: Elf, High | H7: 2 | K7: 1 | M7: Common, Elvish | O7: LN | Q7: Fighter | R7: STR, CON | S7: d10 | T7: 10 | U7: INT | W7: Flail | X7: 1d8 | Y7: Bludgeoning | AA7: Folk Hero | AB7: 131 | AC7: Animal handling (WIS), Survival (WIS) | AD7: - | AE7: Artisan's tools x1, Vehicles (land)
A8: Light | B8: None | C8: 10 | D8: 1 | F8: Elf, Wood | L8: 2 | M8: Common, Elvish | O8: N | Q8: Monk | R8: STR, DEX | S8: d8 | T8: 8 | U8: - | W8: Glaive | X8: 1d10 | Y8: Slashing | AA8: Gladiator | AB8: 130 | AC8: Acrobatics (DEX), Performance (CHA) | AD8: - | AE8: Disguise kit, Unusual weapon x1
A9: Light | B9: Padded | C9: 11 | D9: 1 | F9: Gnome, Forest | G9: 2 | I9: 1 | M9: Common, Gnomish | O9: NE | Q9: Paladin | R9: WIS, CHA | S9: d10 | T9: 10 | U9: CHA | W9: Great Axe | X9: 1d12 | Y9: Slashing | AA9: Guild Artisan | AB9: 132 | AC9: Insight (WIS), Persuasion (CHA) | AD9: 1 | AE9: Artisan's tools x1
A10: Heavy | B10: Plate | C10: 18 | D10: 0 | F10: Gnome, Rock | H10: 2 | L10: 1 | M10: Common, Elfish | O10: NG | Q10: Ranger | R10: STR, DEX | S10: d10 | T10: 10 | U10: WIS | W10: Great Sword | X10: 2d6 | Y10: Slashing | AA10: Guild Merchant | AB10: 132 | AC10: Insight (WIS), Persuasion (CHA) | AD10: 1 | AE10: Navigator's tools
A11: Heavy | B11: Ring Mail | C11: 14 | D11: 0 | F11: Half Elf | H11: 2 | I11: 1 | M11: Common, Elvish, 1 Other | Q11: Rogue | R11: DEX, INT | S11: d8 | T11: 8 | U11: INT | W11: Halberd | X11: 1d10 | Y11: Slashing | AA11: Hermit | AB11: 134 | AC11: Medicine (WIS), Religion (INT) | AD11: 1 | AE11: Herbalism kit
A12: Medium | B12: Scale Mail | C12: 14 | D12: 1 | F12: Half-Orc | G12: 1 | H12: 1 | I12: 1 | J12: 1 | K12: 1 | L12: 1 | M12: Common, Orc | Q12: Sorcerer | R12: CON, CHA | S12: d6 | T12: 8 | U12: CHA | W12: Hammer | X12: 1d6 | Y12: Bludgeoning | AA12: Knight | AB12: 135 | AC12: History (INT), Persuasion (CHA) | AD12: 1 | AE12: Gaming set x1
A13: Heavy | B13: Splint | C13: 17 | D13: 0 | F13: Halfling | J13: 1 | L13: 2 | M13: Common, Halfling | Q13: Warlock | R13: WIS, CHA | S13: d8 | T13: 8 | U13: CHA | W13: Hand Axe | X13: 1d6 | Y13: Bludgeoning | AA13: Noble | AB13: 135 | AC13: History (INT), Persuasion (CHA) | AD13: 1 | AE13: Gaming set x1
A14: Light | B14: Studded | C14: 12 | D14: 1 | F14: Human | M14: Common, 1 other | Q14: Wizard | R14: INT, WIS | S14: d6 | T14: 8 | U14: INT | W14: Heavy Cross Bow | X14: 1d10 | Y14: Piercing | AA14: Outlander | AB14: 136 | AC14: Athletics (STR), Survival (WIS) | AD14: 1 | AE14: Musical instrument x1
F15: Tiefling | M15: Common, Abyssal | W15: Javelin | X15: 1d6 | Y15: Piercing | AA15: Pirate | AB15: 139 | AC15: Athletics (STR), Perception (WIS) | AD15: - | AE15: Navigator's tools, Vehicles (water)
W16: Knife | X16: 1d4 | Y16: Piercing | AA16: Sage | AB16: 137 | AC16: Arcana (INT), History (INT) | AD16: 2 | AE16: -
A17: Backgrounds | W17: Lance | X17: 1d12 | Y17: Piercing | AA17: Sailor | AB17: 139 | AC17: Athletics (STR), Perception (WIS) | AD17: - | AE17: Navigator's tools, Vehicles (water)
W18: Long Bow | X18: 1d8 | Y18: Piercing | AA18: Soldier | AB18: 140 | AC18: Athletics (STR), Intimidation (CHA) | AD18: - | AE18: Gaming set x1, Vehicles (land)
A19: Shield | F19: Feats | G19: Pg | W19: Long/Broad Sword | X19: 1d8 | Y19: Slashing | AA19: Spy | AB19: 129 | AC19: Deception (CHA), Stealth (DEX) | AD19: - | AE19: Gaming set x1, Thieves' tools
A20: No | B20: 0 | F20: Choose Feat | G20: 165 | W20: Lt. Cross Bow | X20: 1d8 | Y20: Piercing | AA20: Urchin | AB20: 141 | AC20: Sleight of Hand (DEX), Stealth (DEX) | AD20: - | AE20: Disguise kit, Thieves' tools
A21: Yes | B21: 2 | F21: Alert | G21: 165 | W21: Mace | X21: 1d6 | Y21: Bludgeoning
F22: Athlete | G22: 165 | W22: Maul | X22: 2d6 | Y22: Bludgeoning
F23: Actor | G23: 165 | W23: Morningstar | X23: 1d8 | Y23: Bludgeoning
F24: Charger | G24: 165 | W24: Pike | X24: 1d10 | Y24: Piercing
F25: Crossbow Expert | G25: 165 | W25: Rapier | X25: 1d8 | Y25: Piercing
F26: Defensive Duelist | G26: 165 | W26: Saber | X26: 1d6 | Y26: Slashing
F27: Dual Wielder | G27: 165 | W27: Scimitar | X27: 1d8 | Y27: Slashing
F28: Dungeon Delver | G28: 166 | W28: Short Bow | X28: 1d6 | Y28: Piercing
F29: Durable | G29: 166 | W29: Short Sword | X29: 1d6 | Y29: Piercing
F30: Elemental Adept | G30: 166 | W30: Sling Stone | X30: 1d5 | Y30: Bludgeoning
F31: Grappler | G31: 167 | W31: Spear | X31: 1d6 | Y31: Piercing
F32: Great Weapon Master | G32: 167 | W32: Spiked Chain | X32: 1d8 | Y32: Piercing
F33: Healer | G33: 167 | W33: Staff | X33: 1d6 | Y33: Bludgeoning
... F37: Keen Mind | G37: 167 | W37: Whip | X37: 1d4 | Y37: Slashing
F38: Lightly Armored | G38: 167
F39: Linguist | G39: 167
F40: Lucky | G40: 167
F41: Mage Slayer | G41: 168
F42: Magic Initiate | G42: 168
F43: Martial Adept | G43: 168
F44: Medium Armor Master | G44: 168
F45: Mobile | G45: 168
F46: Moderately Armored | G46: 168
F47: Mounted Combatant | G47: 168
F48: Observant | G48: 168
F49: Polearm Master | G49: 168
... F62: Weapon Master | G62: 170

Sheet Spellcasting Sheet
A1: SPELLCASTING ABILITYS: | F1: MY SPELLCASTING ABILITY: | K1: =IF(C5="WIS",D3,IF(C5="CHA",D4,D2)) -> 0 | Q1: Level | T1: ='Character Sheet'!Q1 -> 1
A2: Intelligence | D2: ='Character Sheet'!A24 -> 0 | F2: SPELL SAVE DC: | K2: =8+T2+K1 -> 10 | Q2: Proficiency | T2: ='Character Sheet'!E5 -> 2
A3: Wisdom | D3: ='Character Sheet'!A30 -> 0 | F3: SPELL ATTACK BONUS: | K3: =K1+T2 -> 2
A4: Charisma | D4: ='Character Sheet'!A36 -> 0 | F4: Nr of spells I can prepare: | K4: =K1+T1 -> 1 | Q4: Age | T4: 1
A5: ='Character Sheet'!Q2 -> Choose Class | C5: =VLOOKUP(A5,'Look-ups'!Q2:U14,5,FALSE) -> - | Q5: Height | T5: 1
Q6: Weight | T6: 1
A8: 0 | B8: CANTRIPS | H8: 3 | O8: 6
A18: SPELL LEVEL
B19: SLOTS TOTAL | D19: SLOTS EXPENDED | O19: 7
A20: 1 | B20: 4
H24: 4
O30: 8
A35: 2 | B35: 2
H39: 5
O40: 9

Sheet Spells
A1: Name | B1: Level | C1: Bard | D1: Cleric | E1: Druid | F1: Paladin | G1: Ranger | H1: Sorcerer | I1: Warlock | J1: Wizard | K1: School | L1: Ritual | M1: Casting Time | N1: Range | O1: Verbal | P1: Somatic | Q1: Material | R1: Concentration | S1: Duration | T1: PHB | U1: SSRB | V1: PBR | W1: HDQS | X1: RTS | Y1: EEPC | Z1: PAS | AA1: SCAG | AB1: UABM | AC1: VGM
A2: Acid Splash | B2: 0 | H2: O | J2: O | K2: Conjuration | M2: 1 action | N2: 60 feet | O2: Yes | P2: Yes | Q2: No | S2: Instant | T2: 211 | V2: 83
A3: Blade Ward | B3: 0 | C3: O | H3: O | I3: O | J3: O | K3: Abjuration | M3: 1 action | N3: Self | O3: Yes | P3: Yes | Q3: No | S3: 1 Round | T3: 218 | Z3: 40
A4: Booming Blade | B4: 0 | H4: O | I4: O | J4: O | K4: Evocation | M4: 1 action | N4: 5 feet | O4: Yes | P4: No | Q4: Yes | S4: 1 Round | AA4: 142
A5: Chill Touch | B5: 0 | H5: O | I5: O | J5: O | K5: Necromancy | M5: 1 action | N5: 120 feet | O5: Yes | P5: Yes | Q5: No | S5: 1 Round | T5: 221 | Z5: 41
A6: Control Flames | B6: 0 | E6: O | H6: O | J6: O | K6: Transmutation | M6: 1 action | N6: 60 feet | O6: Yes | P6: Yes | Q6: No | R6: Yes | S6: 1 minute | Y6: 16
A7: Create Bonfire | B7: 0 | E7: O | H7: O | I7: O | J7: O | K7: Conjuration | M7: 1 action | N7: 60 feet | O7: Yes | P7: Yes | Q7: No | R7: Yes | S7: 1 minute | Y7: 16
A8: Dancing Lights | B8: 0 | C8: O | H8: O | J8: O | K8: Evocation | M8: 1 action | N8: 120 feet | O8: Yes | P8: Yes | Q8: Yes | R8: Yes | S8: 1 Minute | T8: 230 | U8: 25 | V8: 86
A9: Druidcraft | B9: 0 | E9: O | K9: Transmutation | M9: 1 action | N9: 30 feet | O9: Yes | P9: Yes | Q9: No | S9: Instant | T9: 236 | W9: 25 | Z9: 45
A10: Eldritch Blast | B10: 0 | I10: O | K10: Evocation | M10: 1 action | N10: 120 feet | O10: Yes | P10: Yes | Q10: No | S10: Instant | T10: 237 | Z10: 45
A11: Fire Bolt | B11: 0 | H11: O | J11: O | K11: Evocation | M11: 1 action | N11: 120 feet | O11: Yes | P11: Yes | Q11: No | S11: Instant | T11: 242 | V11: 90
A12: Friends | B12: 0 | C12: O | H12: O | I12: O | J12: O | K12: Enchantment | M12: 1 action | N12: Self | O12: No | P12: Yes | Q12: Yes | R12: Yes | S12: 1 Minute | T12: 244 | Z12: 47
A13: Frostbite | B13: 0 | E13: O | H13: O | I13: O | J13: O | K13: Evocation | M13: 1 action | N13: 60 feet | O13: Yes | P13: Yes | Q13: No | S13: Instant | Y13: 18
A14: Green Flame Blade | B14: 0 | H14: O | I14: O | J14: O | K14: Evocation | M14: 1 action | N14: 5 feet | O14: Yes | P14: No | Q14: Yes | S14: Instant | AA14: 143
A15: Guidance | B15: 0 | D15: O | E15: O | K15: Divination | M15: 1 action | N15: Touch | O15: Yes | P15: Yes | Q15: No | R15: Yes | S15: 1 Minute | T15: 248 | U15: 26 | V15: 92
A16: Gust | B16: 0 | E16: O | H16: O | J16: O | K16: Transmutation | M16: 1 action | N16: 30 feet | O16: Yes | P16: Yes | Q16: No | S16: Instant | Y16: 19
A17: Light | B17: 0 | C17: O | D17: O | H17: O | J17: O | K17: Evocation | M17: 1 action | N17: Touch | O17: Yes | P17: No | Q17: Yes | S17: 1 Hour | T17: 255 | U17: 27 | V17: 95
A18: Lightning Lure | B18: 0 | H18: O | I18: O | J18: O | K18: Evocation | M18: 1 action | N18: 15 feet | O18: Yes | P18: No | Q18: No | S18: Instant | AA18: 143
A19: Mage Hand | B19: 0 | C19: O | H19: O | I19: O | J19: O | K19: Conjuration | M19: 1 action | N19: 30 feet | O19: Yes | P19: Yes | Q19: No | S19: 1 Minute | T19: 256 | U19: 28 | V19: 96
A20: Magic Stone | B20: 0 | E20: O | I20: O | K20: Transmutation | M20: 1 bonus action | N20: Touch | O20: Yes | P20: Yes | Q20: No | S20: 1 Minute | Y20: 20
A21: Mending | B21: 0 | C21: O | D21: O | E21: O | H21: O | J21: O | K21: Transmutation | M21: 1 minute | N21: Touch | O21: Yes | P21: Yes | Q21: Yes | S21: Instant | T21: 259 | Z21: 50
A22: Message | B22: 0 | C22: O | H22: O | J22: O | K22: Transmutation | M22: 1 action | N22: 120 feet | O22: Yes | P22: Yes | Q22: Yes | S22: 1 Round | T22: 259 | Z22: 50
A23: Minor Illusion | B23: 0 | C23: O | H23: O | I23: O | J23: O | K23: Illusion | M23: 1 action | N23: 30 feet | O23: No | P23: Yes | Q23: Yes | S23: 1 Minute | T23: 260 | V23: 97
A24: Mold Earth | B24: 0 | E24: O | H24: O | J24: O | K24: Transmutation | M24: 1 action | N24: 30 feet | O24: No | P24: Yes | Q24: No | S24: Instant | Y24: 21
A25: Poison Cloud | B25: 0 | E25: O | H25: O | I25: O | J25: O | K25: Conjuration | M25: 1 action | N25: 10 feet | O25: Yes | P25: Yes | Q25: No | S25: Instant | W25: 27
A26: Poison Spray | B26: 0 | E26: O | H26: O | I26: O | J26: O | K26: Conjuration | M26: 1 action | N26: 10 feet | O26: Yes | P26: Yes | Q26: No | S26: Instant | T26: 266 | V26: 98
A27: Prestidigitation | B27: 0 | C27: O | H27: O | I27: O | J27: O | K27: Transmutation | M27: 1 action | N27: 10 feet | O27: Yes | P27: Yes | Q27: No | S27: 1 Hour | T27: 267 | U27: 28 | V27: 99
A28: Produce Flame | B28: 0 | E28: O | K28: Conjuration | M28: 1 action | N28: Self | O28: Yes | P28: Yes | Q28: No | S28: 10 Minutes | T28: 269 | Z28: 52
A29: Ray of Frost | B29: 0 | H29: O | J29: O | K29: Evocation | M29: 1 action | N29: 60 feet | O29: Yes | P29: Yes | Q29: No | S29: Instant | T29: 271 | U29: 28 | V29: 99
A30: Resistance | B30: 0 | D30: O | E30: O | K30: Abjuration | M30: 1 action | N30: Touch | O30: Yes | P30: Yes | Q30: Yes | R30: Yes | S30: 1 Minute | T30: 272 | U30: 29 | V30: 99
A31: Sacred Flame | B31: 0 | D31: O | K31: Evocation | M31: 1 action | N31: 60 feet | O31: Yes | P31: Yes | Q31: No | S31: Instant | T31: 272 | U31: 29 | V31: 100
A32: Shape Water | B32: 0 | E32: O | H32: O | J32: O | K32: Transmutation | M32: 1 action | N32: 30 feet | O32: No | P32: Yes | Q32: No | S32: Instant | Y32: 21
A33: Shillelagh | B33: 0 | E33: O | K33: Transmutation | M33: 1 bonus action | N33: Touch | O33: Yes | P33: Yes | Q33: Yes | S33: 1 Minute | T33: 275 | Z33: 53
A34: Shocking Grasp | B34: 0 | H34: O | J34: O | K34: Evocation | M34: 1 action | N34: Touch | O34: Yes | P34: Yes | Q34: No | S34: Instant | T34: 275 | U34: 29 | V34: 101
A35: Spare the Dying | B35: 0 | D35: O | K35: Necromancy | M35: 1 action | N35: Touch | O35: Yes | P35: Yes | Q35: No | S35: Instant | T35: 277 | V35: 101
A36: Sword Burst | B36: 0 | H36: O | I36: O | J36: O | K36: Conjuration | M36: 1 action | N36: 5 feet | O36: Yes | P36: No | Q36: No | S36: Instant | AA36: 143
A37: Thaumaturgy | B37: 0 | D37: O | K37: Transmutation | M37: 1 action | N37: 30 feet | O37: Yes | P37: No | Q37: No | S37: 1 Minute | T37: 282 | U37: 30 | V37: 103
A38: Thorn Whip | B38: 0 | E38: O | K38: Transmutation | M38: 1 action | N38: 30 feet | O38: Yes | P38: Yes | Q38: Yes | S38: Instant | T38: 282 | Z38: 54
A39: Thunderclap | B39: 0 | C39: O | E39: O | H39: O | I39: O | J39: O | K39: Evocation | M39: 1 action | N39: Self | O39: No | P39: Yes | Q39: No | S39: Instant | Y39: 22
A40: True Strike | B40: 0 | C40: O | H40: O | I40: O | J40: O | K40: Divination | M40: 1 action | N40: 30 feet | O40: No | P40: Yes | Q40: No | R40: Yes | S40: 1 Round | T40: 284
A41: Viscous Mockery | B41: 0 | C41: O | K41: Enchantment | M41: 1 action | N41: 60 feet | O41: Yes | P41: No | Q41: No | S41: Instant | T41: 285 | Z41: 55
A42: Absorb Elements | B42: 1 | E42: O | G42: O | J42: O | K42: Abjuration | M42: 1 reaction | N42: Self | O42: No | P42: Yes | Q42: No | S42: 1 Round | Y42: 15
A43: Alarm | B43: 1 | G43: O | J43: O | K43: Abjuration | L43: Yes | M43: 1 minute | N43: 30 feet | O43: Yes | P43: Yes | Q43: Yes | S43: 8 Hours | T43: 211 | Z43: 39
A44: Animal Friendship | B44: 1 | C44: O | E44: O | G44: O | K44: Enchantment | M44: 1 action | N44: 30 feet | O44: Yes | P44: Yes | Q44: Yes | S44: 24 Hours | T44: 212 | W44: 23 | Z44: 39
A45: Armor of Agathys | B45: 1 | I45: O | K45: Abjuration | M45: 1 action | N45: Self | O45: Yes | P45: Yes | Q45: Yes | S45: 1 Hour | T45: 215 | Z45: 40
A46: Arms of Hadar | B46: 1 | I46: O | K46: Conjuration | M46: 1 action | N46: Self | O46: Yes | P46: Yes | Q46: No | S46: Instant | T46: 215
A47: Bane | B47: 1 | C47: O | D47: O | K47: Enchantment | M47: 1 action | N47: 30 feet | O47: Yes | P47: Yes | Q47: Yes | R47: Yes | S47: 1 Minute | T47: 216 | Z47: 40
A48: Beast Bond | B48: 1 | E48: O | G48: O | K48: Divination | M48: 1 action | N48: Touch | O48: Yes | P48: Yes | Q48: Yes | R48: Yes | S48: 10 Minutes | Y48: 15
A49: Bless | B49: 1 | D49: O | F49: O | K49: Enchantment | M49: 1 action | N49: 30 feet | O49: Yes | P49: Yes | Q49: Yes | R49: Yes | S49: 1 Minute | T49: 219 | U49: 24 | V49: 84
A50: Burning Hands | B50: 1 | H50: O | J50: O | K50: Evocation | M50: 1 action | N50: Self | O50: Yes | P50: Yes | Q50: No | S50: Instant | T50: 220 | U50: 24 | V50: 85
A51: Catapult | B51: 1 | H51: O | J51: O | K51: Transmutation | M51: 1 action | N51: 150 feet | O51: No | P51: Yes | Q51: No | S51: Instant | Y51: 15
A52: Charm Person | B52: 1 | C52: O | E52: O | H52: O | I52: O | J52: O | K52: Enchantment | M52: 1 action | N52: 30 feet | O52: Yes | P52: Yes | Q52: No | S52: 1 Hour | T52: 221 | U52: 24 | V52: 85
A53: Chromatic Orb | B53: 1 | H53: O | J53: O | K53: Evocation | M53: 1 action | N53: 90 feet | O53: Yes | P53: Yes | Q53: Yes | S53: Instant | T53: 221 | W53: 23 | X53: 31 | Z53: 41
A54: Color Spray | B54: 1 | H54: O | J54: O | K54: Illusion | M54: 1 action | N54: Self | O54: Yes | P54: Yes | Q54: Yes | S54: 1 Round | T54: 222 | W54: 24 | X54: 31 | Z54: 41
A55: Command | B55: 1 | D55: O | F55: O | K55: Enchantment | M55: 1 action | N55: 60 feet | O55: Yes | P55: No | Q55: No | S55: 1 Round | T55: 223 | U55: 25 | V55: 85
A56: Compelled Duel | B56: 1 | F56: O | K56: Enchantment | M56: 1 bonus action | N56: 30 feet | O56: Yes | P56: No | Q56: No | R56: Yes | S56: 1 Minute | T56: 224
A57: Comprehend Languages | B57: 1 | C57: O | H57: O | I57: O | J57: O | K57: Divination | L57: Yes | M57: 1 action | N57: Self | O57: Yes | P57: Yes | Q57: Yes | S57: 1 Hour | T57: 224 | U57: 25 | V57: 86
A58: Create or Destroy Water | B58: 1 | D58: O | E58: O | K58: Transmutation | M58: 1 action | N58: 30 feet | O58: Yes | P58: Yes | Q58: Yes | S58: Instant | T58: 229
A59: Cure Wounds | B59: 1 | C59: O | D59: O | E59: O | F59: O | G59: O | K59: Evocation | M59: 1 action | N59: Touch | O59: Yes | P59: Yes | Q59: No | S59: Instant | T59: 230 | U59: 25 | V59: 86
A60: Detect Evil and Good | B60: 1 | D60: O | F60: O | K60: Divination | M60: 1 action | N60: Self | O60: Yes | P60: Yes | Q60: No | R60: Yes | S60: 10 Minutes | T60: 231 | W60: 24 | Z60: 44
A61: Detect Magic | B61: 1 | C61: O | D61: O | E61: O | F61: O | G61: O | H61: O | J61: O | K61: Divination | L61: Yes | M61: 1 action | N61: Self | O61: Yes | P61: Yes | Q61: No | R61: Yes | S61: 10 Minutes | T61: 231 | U61: 26 | V61: 87
A62: Detect Poison and Disease | B62: 1 | D62: O | E62: O | F62: O | G62: O | K62: Divination | L62: Yes | M62: 1 action | N62: Self | O62: Yes | P62: Yes | Q62: Yes | R62: Yes | S62: 10 Minutes | T62: 231
A63: Disguise Self | B63: 1 | C63: O | H63: O | J63: O | K63: Illusion | M63: 1 action | N63: Self | O63: Yes | P63: Yes | Q63: No | S63: 1 Hour | T63: 233 | V63: 87
A64: Dissonant Whispers | B64: 1 | C64: O | K64: Enchantment | M64: 1 action | N64: 60 feet | O64: Yes | P64: No | Q64: No | S64: Instant | T64: 234 | Z64: 44
A65: Divine Favor | B65: 1 | F65: O | K65: Evocation | M65: 1 bonus action | N65: 30 feet | O65: Yes | P65: No | Q65: No | S65: Instant | T65: 234
A66: Earth Tremor | B66: 1 | C66: O | E66: O | H66: O | J66: O | K66: Evocation | M66: 1 action | N66: Self | O66: Yes | P66: Yes | Q66: No | S66: Instant | Y66: 17
A67: Entangle | B67: 1 | E67: O | K67: Conjuration | M67: 1 action | N67: 90 feet | O67: Yes | P67: Yes | Q67: No | R67: Yes | S67: 1 Minute | T67: 238 | W67: 25 | Z67: 45
A68: Expiditious Retreat | B68: 1 | H68: O | I68: O | J68: O | K68: Transmutation | M68: 1 bonus action | N68: Self | O68: Yes | P68: Yes | Q68: No | R68: Yes | S68: 10 Minutes | T68: 238 | Z68: 46
A69: Faerie Fire | B69: 1 | C69: O | E69: O | K69: Evocation | M69: 1 action | N69: 60 feet | O69: Yes | P69: No | Q69: No | R69: Yes | S69: 1 Minute | T69: 239 | V69: 90
A70: False Life | B70: 1 | H70: O | J70: O | K70: Necromancy | M70: 1 action | N70: Self | O70: Yes | P70: Yes | Q70: Yes | S70: 1 Hour | T70: 239 | Z70: 46
A71: Feather Fall | B71: 1 | C71: O | H71: O | J71: O | K71: Transmutation | M71: 1 reaction | N71: 60 feet | O71: Yes | P71: No | Q71: Yes | S71: 1 Minute | T71: 239 | W71: 25 | X71: 33 | Z71: 46
A72: Find Familiar | B72: 1 | J72: O | K72: Conjuration | L72: Yes | M72: 1 hour | N72: 10 feet | O72: Yes | P72: Yes | Q72: Yes | S72: Instant | T72: 240
A73: Fog Cloud | B73: 1 | E73: O | G73: O | H73: O | J73: O | K73: Conjuration | M73: 1 action | N73: 120 feet | O73: Yes | P73: Yes | Q73: No | R73: Yes | S73: 1 Hour | T73: 243 | W73: 25 | Z73: 47
A74: Goodberry | B74: 1 | E74: O | G74: O | K74: Transmutation | M74: 1 action | N74: Touch | O74: Yes | P74: Yes | Q74: Yes | S74: Instant | T74: 246
A75: Grease | B75: 1 | J75: O | K75: Conjuration | M75: 1 action | N75: 60 feet | O75: Yes | P75: Yes | Q75: Yes | S75: 1 Minute | T75: 246
A76: Guiding Bolt | B76: 1 | D76: O | K76: Evocation | M76: 1 action | N76: 120 feet | O76: Yes | P76: Yes | Q76: No | S76: 1 Round | T76: 248 | U76: 26 | V76: 92
A77: Hail of Thorns | B77: 1 | G77: O | K77: Conjuration | M77: 1 bonus action | N77: Self | O77: Yes | P77: No | Q77: No | R77: Yes | S77: 1 Minute | T77: 249
A78: Healing Word | B78: 1 | C78: O | D78: O | E78: O | K78: Evocation | M78: 1 bonus action | N78: 60 feet | O78: Yes | P78: No | Q78: No | S78: Instant | T78: 250 | U78: 26 | V78: 93
A79: Hellish Rebuke | B79: 1 | I79: O | K79: Evocation | M79: 1 reaction | N79: 60 feet | O79: Yes | P79: Yes | Q79: No | S79: Instant | T79: 250 | Z79: 48
A80: Heroism | B80: 1 | C80: O | F80: O | K80: Enchantment | M80: 1 action | N80: Touch | O80: Yes | P80: Yes | Q80: No | R80: Yes | S80: 1 Minute | T80: 250
A81: Hex | B81: 1 | I81: O | K81: Enchantment | M81: 1 bonus action | N81: 90 feet | O81: Yes | P81: Yes | Q81: Yes | R81: Yes | S81: 1 Hour | T81: 251 | Z81: 49
A82: Hunter's Mark | B82: 1 | G82: O | K82: Divination | M82: 1 bonus action | N82: 90 feet | O82: Yes | P82: No | Q82: No | R82: Yes | S82: 1 Hour | T82: 251
A83: Ice Knife | B83: 1 | E83: O | H83: O | J83: O | K83: Conjuration | M83: 1 action | N83: 60 feet | O83: No | P83: Yes | Q83: Yes | S83: Instant | Y83: 19
A84: Identify | B84: 1 | C84: O | J84: O | K84: Divination | L84: Yes | M84: 1 minute | N84: Touch | O84: Yes | P84: Yes | Q84: Yes | S84: Instant | T84: 252 | U84: 27 | V84: 94
A85: Illusory Script | B85: 1 | C85: O | I85: O | J85: O | K85: Illusion | L85: Yes | M85: 1 minute | N85: Touch | O85: No | P85: Yes | Q85: Yes | S85: 10 Days | T85: 252
A86: Inflict Wounds | B86: 1 | D86: O | K86: Necromancy | M86: 1 action | N86: Touch | O86: Yes | P86: Yes | Q86: No | S86: Instant | T86: 253 | U86: 27 | V86: 94
A87: Jump | B87: 1 | E87: O | G87: O | H87: O | J87: O | K87: Transmutation | M87: 1 action | N87: Touch | O87: Yes | P87: Yes | Q87: Yes | S87: 1 Minute | T87: 254 | Z87: 49
A88: Longstrider | B88: 1 | C88: O | E88: O | G88: O | J88: O | K88: Transmutation | M88: 1 action | N88: Touch | O88: Yes | P88: Yes | Q88: Yes | S88: 1 Hour | T88: 256 | W88: 26 | Z88: 49
A89: Mage Armor | B89: 1 | H89: O | J89: O | K89: Abjuration | M89: 1 action | N89: Touch | O89: Yes | P89: Yes | Q89: Yes | S89: 8 Hours | T89: 256 | U89: 27 | V89: 96
A90: Magic Missile | B90: 1 | H90: O | J90: O | K90: Evocation | M90: 1 action | N90: 120 feet | O90: Yes | P90: Yes | Q90: No | S90: Instant | T90: 257 | U90: 28 | V90: 96
A91: Protection From Evil and Good | B91: 1 | D91: O | F91: O | I91: O | J91: O | K91: Abjuration | M91: 1 action | N91: Touch | O91: Yes | P91: Yes | Q91: Yes | R91: Yes | S91: 10 Minutes | T91: 270
A92: Purify Food and Drink | B92: 1 | D92: O | E92: O | F92: O | K92: Transmutation | L92: Yes | M92: 1 action | N92: 10 feet | O92: Yes | P92: Yes | Q92: No | S92: Instant | T92: 270
A93: Ray of Sickness | B93: 1 | H93: O | J93: O | K93: Necromancy | M93: 1 action | N93: 60 feet | O93: Yes | P93: Yes | Q93: No | S93: Instant | T93: 271
A94: Sanctuary | B94: 1 | D94: O | K94: Abjuration | M94: 1 bonus action | N94: 30 feet | O94: Yes | P94: Yes | Q94: Yes | S94: 1 Minute | T94: 272 | U94: 29 | V94: 100
A95: Searing Smite | B95: 1 | F95: O | K95: Evocation | M95: 1 bonus action | N95: Self | O95: Yes | P95: No | Q95: No | R95: Yes | S95: 1 Minute | T95: 274
A96: Shield | B96: 1 | H96: O | J96: O | K96: Abjuration | M96: 1 reaction | N96: Self | O96: Yes | P96: Yes | Q96: No | S96: 1 Round | T96: 275 | U96: 29 | V96: 100
A97: Shield of Faith | B97: 1 | D97: O | F97: O | K97: Abjuration | M97: 1 bonus action | N97: 60 feet | O97: Yes | P97: Yes | Q97: Yes | R97: Yes | S97: 10 Minutes | T97: 275 | U97: 29 | V97: 100
A98: Silent Image | B98: 1 | C98: O | H98: O | J98: O | K98: Illusion | M98: 1 action | N98: 60 feet | O98: Yes | P98: Yes | Q98: Yes | R98: Yes | S98: 10 Minutes | T98: 276 | V98: 101
A99: Sleep | B99: 1 | C99: O | H99: O | J99: O | K99: Enchantment | M99: 1 action | N99: 90 feet | O99: Yes | P99: Yes | Q99: Yes | S99: 1 Minute | T99: 276 | U99: 29 | V99: 101
A100: Speak With Animals | B100: 1 | C100: O | E100: O | G100: O | K100: Divination | L100: Yes | M100: 1 action | N100: Self | O100: Yes | P100: Yes | Q100: No | S100: 10 Minutes | T100: 277 | X100: 37 | Z100: 53
...
